0.250000
0.000000
0.000000
-0.250000
559800.125000
4712579.875000
