0.250000
0.000000
0.000000
-0.250000
563220.125000
4712609.875000
