0.250000
0.000000
0.000000
-0.250000
559840.125000
4707949.875000
