0.250000
0.000000
0.000000
-0.250000
573360.125000
4724279.875000
