0.250000
0.000000
0.000000
-0.250000
590430.125000
4724489.875000
