0.250000
0.000000
0.000000
-0.250000
590460.125000
4722179.875000
