0.250000
0.000000
0.000000
-0.250000
580240.125000
4719729.875000
