0.250000
0.000000
0.000000
-0.250000
590490.125000
4719859.875000
