0.250000
0.000000
0.000000
-0.250000
566620.125000
4714949.875000
