0.250000
0.000000
0.000000
-0.250000
576900.125000
4712749.875000
