0.250000
0.000000
0.000000
-0.250000
576920.125000
4710439.875000
