0.250000
0.000000
0.000000
-0.250000
593840.125000
4724539.875000
