0.250000
0.000000
0.000000
-0.250000
600670.125000
4724639.875000
