0.250000
0.000000
0.000000
-0.250000
610950.125000
4722489.875000
