0.250000
0.000000
0.000000
-0.250000
593910.125000
4719909.875000
