0.250000
0.000000
0.000000
-0.250000
614410.125000
4720229.875000
