0.250000
0.000000
0.000000
-0.250000
611140.125000
4710919.875000
