0.250000
0.000000
0.000000
-0.250000
617980.125000
4711029.875000
