0.250000
0.000000
0.000000
-0.250000
614600.125000
4708659.875000
