0.250000
0.000000
0.000000
-0.250000
641700.125000
4723059.875000
