0.250000
0.000000
0.000000
-0.250000
645110.125000
4723129.875000
