0.250000
0.000000
0.000000
-0.250000
631490.125000
4720539.875000
