0.250000
0.000000
0.000000
-0.250000
645210.125000
4718509.875000
