0.250000
0.000000
0.000000
-0.250000
624780.125000
4713469.875000
