0.250000
0.000000
0.000000
-0.250000
645300.125000
4713879.875000
