0.250000
0.000000
0.000000
-0.250000
631670.125000
4711289.875000
