0.250000
0.000000
0.000000
-0.250000
635130.125000
4709039.875000
