0.250000
0.000000
0.000000
-0.250000
648580.125000
4720889.875000
