0.250000
0.000000
0.000000
-0.250000
559860.125000
4705639.875000
