0.250000
0.000000
0.000000
-0.250000
556450.125000
4703289.875000
