0.250000
0.000000
0.000000
-0.250000
611250.125000
4703979.875000
