0.250000
0.000000
0.000000
-0.250000
628330.125000
4706589.875000
