0.250000
0.000000
0.000000
-0.250000
635220.125000
4704409.875000
