0.250000
0.000000
0.000000
-0.250000
604750.125000
4680739.875000
