0.250000
0.000000
0.000000
-0.250000
608180.125000
4680789.875000
