0.250000
0.000000
0.000000
-0.250000
604810.125000
4676109.875000
