0.250000
0.000000
0.000000
-0.250000
611690.125000
4676219.875000
