0.250000
0.000000
0.000000
-0.250000
615130.125000
4676279.875000
