0.250000
0.000000
0.000000
-0.250000
621810.125000
4687959.875000
