0.250000
0.000000
0.000000
-0.250000
621890.125000
4683339.875000
