0.250000
0.000000
0.000000
-0.250000
625320.125000
4683399.875000
