0.250000
0.000000
0.000000
-0.250000
625450.125000
4676459.875000
