0.250000
0.000000
0.000000
-0.250000
618720.125000
4667079.875000
