0.250000
0.000000
0.000000
-0.250000
622130.125000
4669459.875000
