0.250000
0.000000
0.000000
-0.250000
629050.125000
4667269.875000
