0.250000
0.000000
0.000000
-0.250000
632500.125000
4667329.875000
