0.250000
0.000000
0.000000
-0.250000
629100.125000
4664959.875000
