0.250000
0.000000
0.000000
-0.250000
632710.125000
4655769.875000
