0.250000
0.000000
0.000000
-0.250000
586250.125000
4784599.875000
