0.250000
0.000000
0.000000
-0.250000
616520.125000
4796639.875000
